BEGIN:VCALENDAR
VERSION:2.0
PRODID:-//North American Linen Association - ECPv6.15.20//NONSGML v1.0//EN
CALSCALE:GREGORIAN
METHOD:PUBLISH
X-WR-CALNAME:North American Linen Association
X-ORIGINAL-URL:https://northamericanlinen.org
X-WR-CALDESC:Events for North American Linen Association
REFRESH-INTERVAL;VALUE=DURATION:PT1H
X-Robots-Tag:noindex
X-PUBLISHED-TTL:PT1H
BEGIN:VTIMEZONE
TZID:America/Los_Angeles
BEGIN:DAYLIGHT
TZOFFSETFROM:-0800
TZOFFSETTO:-0700
TZNAME:PDT
DTSTART:20230312T100000
END:DAYLIGHT
BEGIN:STANDARD
TZOFFSETFROM:-0700
TZOFFSETTO:-0800
TZNAME:PST
DTSTART:20231105T090000
END:STANDARD
BEGIN:DAYLIGHT
TZOFFSETFROM:-0800
TZOFFSETTO:-0700
TZNAME:PDT
DTSTART:20240310T100000
END:DAYLIGHT
BEGIN:STANDARD
TZOFFSETFROM:-0700
TZOFFSETTO:-0800
TZNAME:PST
DTSTART:20241103T090000
END:STANDARD
BEGIN:DAYLIGHT
TZOFFSETFROM:-0800
TZOFFSETTO:-0700
TZNAME:PDT
DTSTART:20250309T100000
END:DAYLIGHT
BEGIN:STANDARD
TZOFFSETFROM:-0700
TZOFFSETTO:-0800
TZNAME:PST
DTSTART:20251102T090000
END:STANDARD
END:VTIMEZONE
BEGIN:VEVENT
DTSTART;TZID=America/Los_Angeles:20241208T150000
DTEND;TZID=America/Los_Angeles:20241208T180000
DTSTAMP:20260425T052836
CREATED:20241206T210623Z
LAST-MODIFIED:20241206T210729Z
UID:986-1733670000-1733680800@northamericanlinen.org
SUMMARY:Sagra del Radicchio
DESCRIPTION:During this fun and lively event in Portland\, OR\, NALA will showcase flax fiber\, seed\, and more at the fiber table. \nDiscover why “Bitter is Better” at the fourth SAGRA del RADICCHIO! This event is not just about celebrating Italian chicories; it’s a journey into the world of underdog crops. From winter radishes to pomodori d’inverno\, from dry-farmed winter squash\, beans\, and corn to buckwheat and beyond\, join us in a culinary and cultural exploration like no other. \nTaste\, learn\, and experience the diversity of locally grown winter vegetables and grains that often need to be more appreciated. Farmers and chefs from the PNW and afar will share dishes\, drinks\, and stories at over 40 tables. Take advantage of this opportunity to celebrate the unsung heroes of the culinary world! \nTHIS EVENT IS SOLD OUT
URL:https://northamericanlinen.org/event/sagra-del-radicchio/
LOCATION:Redd East Event Space\, 831 Southeast Salmon Street\, Portland\, Oregon\, 97214\, United States
END:VEVENT
BEGIN:VEVENT
DTSTART;TZID=America/Los_Angeles:20241219T070000
DTEND;TZID=America/Los_Angeles:20241219T080000
DTSTAMP:20260425T052836
CREATED:20241114T213549Z
LAST-MODIFIED:20241114T213549Z
UID:973-1734591600-1734595200@northamericanlinen.org
SUMMARY:NALA Member Social: Guest Depoortere from Belgium *MEMBERS ONLY EVENT*
DESCRIPTION:Hello NALA Members! \nWe’re excited that Claude Lesage from Depoortere will join us for our December NALA Member Social & Networking event! Depoortere\, located in Belgium\, manufactures machines for harvesting and scutching natural fibers: flax\, hemp\, kenaf\, and other natural fibers.  \nWe appreciate the flexibility of the membership as we looked for a reasonable time across many time zones and Europe! Recordings will be available after the event for all NALA members.
URL:https://northamericanlinen.org/event/nala-member-social-guest-depoortere-from-belgium-members-only-event/
END:VEVENT
END:VCALENDAR