BEGIN:VCALENDAR
VERSION:2.0
PRODID:-//North American Linen Association - ECPv6.15.20//NONSGML v1.0//EN
CALSCALE:GREGORIAN
METHOD:PUBLISH
X-WR-CALNAME:North American Linen Association
X-ORIGINAL-URL:https://northamericanlinen.org
X-WR-CALDESC:Events for North American Linen Association
REFRESH-INTERVAL;VALUE=DURATION:PT1H
X-Robots-Tag:noindex
X-PUBLISHED-TTL:PT1H
BEGIN:VTIMEZONE
TZID:America/New_York
BEGIN:DAYLIGHT
TZOFFSETFROM:-0500
TZOFFSETTO:-0400
TZNAME:EDT
DTSTART:20230312T070000
END:DAYLIGHT
BEGIN:STANDARD
TZOFFSETFROM:-0400
TZOFFSETTO:-0500
TZNAME:EST
DTSTART:20231105T060000
END:STANDARD
BEGIN:DAYLIGHT
TZOFFSETFROM:-0500
TZOFFSETTO:-0400
TZNAME:EDT
DTSTART:20240310T070000
END:DAYLIGHT
BEGIN:STANDARD
TZOFFSETFROM:-0400
TZOFFSETTO:-0500
TZNAME:EST
DTSTART:20241103T060000
END:STANDARD
BEGIN:DAYLIGHT
TZOFFSETFROM:-0500
TZOFFSETTO:-0400
TZNAME:EDT
DTSTART:20250309T070000
END:DAYLIGHT
BEGIN:STANDARD
TZOFFSETFROM:-0400
TZOFFSETTO:-0500
TZNAME:EST
DTSTART:20251102T060000
END:STANDARD
END:VTIMEZONE
BEGIN:VTIMEZONE
TZID:America/Los_Angeles
BEGIN:DAYLIGHT
TZOFFSETFROM:-0800
TZOFFSETTO:-0700
TZNAME:PDT
DTSTART:20230312T100000
END:DAYLIGHT
BEGIN:STANDARD
TZOFFSETFROM:-0700
TZOFFSETTO:-0800
TZNAME:PST
DTSTART:20231105T090000
END:STANDARD
BEGIN:DAYLIGHT
TZOFFSETFROM:-0800
TZOFFSETTO:-0700
TZNAME:PDT
DTSTART:20240310T100000
END:DAYLIGHT
BEGIN:STANDARD
TZOFFSETFROM:-0700
TZOFFSETTO:-0800
TZNAME:PST
DTSTART:20241103T090000
END:STANDARD
BEGIN:DAYLIGHT
TZOFFSETFROM:-0800
TZOFFSETTO:-0700
TZNAME:PDT
DTSTART:20250309T100000
END:DAYLIGHT
BEGIN:STANDARD
TZOFFSETFROM:-0700
TZOFFSETTO:-0800
TZNAME:PST
DTSTART:20251102T090000
END:STANDARD
END:VTIMEZONE
BEGIN:VTIMEZONE
TZID:Asia/Krasnoyarsk
BEGIN:STANDARD
TZOFFSETFROM:+0700
TZOFFSETTO:+0700
TZNAME:+07
DTSTART:20230101T000000
END:STANDARD
END:VTIMEZONE
BEGIN:VEVENT
DTSTART;TZID=America/New_York:20240821T180000
DTEND;TZID=America/New_York:20240821T210000
DTSTAMP:20260425T042542
CREATED:20240809T202321Z
LAST-MODIFIED:20240809T202539Z
UID:908-1724263200-1724274000@northamericanlinen.org
SUMMARY:TechTextil in Raleigh\, North Carolina
DESCRIPTION:  \n \nNALA will join the inaugural Industry Networking Collaborative meeting at TechTextil in Raleigh on August 20th. Associations will meet to discuss visions\, missions\, goals and collaborations. \nIf you are attending TechTextil\, you are invited to join a launch party to celebrate this industry collaborative on August 21\, 2024. \nRegister Here \n 
URL:https://northamericanlinen.org/event/techtextil-in-raleigh-north-carolina/
END:VEVENT
BEGIN:VEVENT
DTSTART;TZID=America/Los_Angeles:20240820T100000
DTEND;TZID=America/Los_Angeles:20240820T110000
DTSTAMP:20260425T042542
CREATED:20240726T182713Z
LAST-MODIFIED:20240726T182713Z
UID:900-1724148000-1724151600@northamericanlinen.org
SUMMARY:NALA Member Social & Networking
DESCRIPTION:** This event is exclusively for NALA Members. ** \nYour next NALA Members Social & Networking opportunity is scheduled for August 20\, 2024 from 10:oo am – 11:00 am PDT. Please join us in welcoming our special guest speaker: Jessica Thies from the Parsons School of Design. Jessica will be speaking about her faculty role in the Parsons Healthy Materials Lab & upcoming exhibition\, Regeneration of Flax.
URL:https://northamericanlinen.org/event/nala-member-social-networking/
END:VEVENT
BEGIN:VEVENT
DTSTART;TZID=America/New_York:20240725T100000
DTEND;TZID=America/New_York:20240725T153000
DTSTAMP:20260425T042542
CREATED:20240627T220202Z
LAST-MODIFIED:20240627T220202Z
UID:884-1721901600-1721921400@northamericanlinen.org
SUMMARY:2024 Annual Crops & Soils Field Day-University of Vermont
DESCRIPTION:2024 Annual Crops & Soils Field Day \nWe welcome you to join the University of Vermont Extension Northwest Crops & Soils Program at their 17th Annual Crops & Soils Field Day at Borderview Research Farm. \nWHEN: Thursday\, July 25\, 2024\, 10:00 a.m. to 3:30 p.m. EDT \nWHERE: Borderview Farm\, 487 Line Road\, Alburgh\, VT 05440 \nCost is $25 per non-farmer and free for farmers. Includes lunch. \nEvent is rain or shine\, dress appropriately. \nAdvanced registration is required.  \nRegister here by noon 7/23: http://go.uvm.edu/conferences.
URL:https://northamericanlinen.org/event/2024-annual-crops-soils-field-day-university-of-vermont/
END:VEVENT
BEGIN:VEVENT
DTSTART;TZID=America/New_York:20240719T083000
DTEND;TZID=America/New_York:20240719T160000
DTSTAMP:20260425T042542
CREATED:20240627T174145Z
LAST-MODIFIED:20240627T174145Z
UID:878-1721377800-1721404800@northamericanlinen.org
SUMMARY:Rodale Institute Organic Field Day
DESCRIPTION:Join Rodale Institute’s researchers and expert staff at our annual Organic Field Day to learn the latest results of our farming trials and visit nearly 20 demonstration stations on our 386-acre experimental farm. \nPA Flax Project is participating in Rodale Institute’s Organic Field Day. Find them next to the 1 acre plot of fiber flax planted in collaboration with Rodale this spring introducing people to the fiber flax plant and talking about the opportunities and challenges of growing fiber flax in Pennsylvania. \nJuly 19\, 2024\n8:30am — 4pm EDT\nKutztown\, PA\nParticipants will have the opportunity to interact one-on-one with Rodale Institute experts and learn about a wide variety of research and demonstration projects\, all focused on organic agriculture. Stations will be set up throughout the farm\, so you’ll have the opportunity to explore our living laboratory by walking or enjoying a leisurely wagon ride from site-to-site. \nSpace is limited and registration is required. Please bring your own lunch (there will also be food on-site available for purchase). \nRegister Here: https://rodaleinstitute.org/visit/organic-field-day/
URL:https://northamericanlinen.org/event/rodale-institute-organic-field-day/
END:VEVENT
BEGIN:VEVENT
DTSTART;TZID=America/New_York:20240713T100000
DTEND;TZID=America/New_York:20240713T120000
DTSTAMP:20260425T042542
CREATED:20240507T191110Z
LAST-MODIFIED:20240508T202212Z
UID:835-1720864800-1720872000@northamericanlinen.org
SUMMARY:PA Flax Project’s Producer Event Series: Part 2 (Harvest)
DESCRIPTION:See a demo of the “Grubber” mechanized harvesting equipment necessary for harvesting fiber flax at scale. Learn about hand harvest and an overview of retting and post-harvest handling. Learn how flax fits into rotations and about PA Flax Project’s cooperative business model. \n\nThis event will take place in both Spanish and English with simultaneous interpretation. Spanish-only\, English-only\, and bilingual speakers are all invited to attend this workshop. \nTo register and for more information please visit: https://paflaxproject.com/events \n\nSaturday\, July 13\, 2024\n10:00 AM  12:00 PM EST\nPasture Song Farm (map)\n\nRain Date July 14th
URL:https://northamericanlinen.org/event/pa-flax-projects-producer-event-series-part-2-harvest/
END:VEVENT
BEGIN:VEVENT
DTSTART;TZID=America/New_York:20240705T090000
DTEND;TZID=America/New_York:20240707T160000
DTSTAMP:20260425T042542
CREATED:20240627T173804Z
LAST-MODIFIED:20240627T173804Z
UID:876-1720170000-1720368000@northamericanlinen.org
SUMMARY:LANDIS VALLEY SUMMER INSTITUTE – FLAX: FROM FIELD TO FABRIC
DESCRIPTION:Learn how to process flax into fabric by hand starting in the field! \nIn Flax: From Field to Fabric you begin with pulling the flax in the field and progress through breaking\, heckling\, carding\, using a drop spindle to spin yarn\, dying the yarn and finally weave a small piece of fabric. \nThis three-day hands-on course includes a drop spindle and a lap loom for you to take home to continue your journey after the class. \nAll materials and equipment are included. Cindy Conners lecture on Saturday at 4 PM is also included with your admission to this class. \nLandis Valley Museum Master Instructors Joe Schott\, Tina Mickley and Author Cindy Conner will guide you through every step. Registration for this very special class is limited. Class is held both outside and inside\, please dress in layers appropriate for the weather. Please wear sturdy\, comfortable\, supportive shoes. \nDate: Friday July 5\, Saturday July 6 and Sunday July 7 \nTime: 9 AM – 4 PM EST Each Day \nSpecial Requirements: Ages 18+ \nLocation: Please meet in Museum Store \nTuition: : $300.00\, LVA Members: $275.00 \nWhat to Bring: Lunch and water bottle. \nCoffee and Donuts will be served each morning from 8:30 AM – 10 AM in the Museum Store. \nAll sales are final\, no refunds. Proceeds benefit the Museum. \nRegister Here: https://www.landisvalleymuseum.org/event/summer-institute-flax-from-field-to-fabric/
URL:https://northamericanlinen.org/event/landis-valley-summer-institute-flax-from-field-to-fabric/
END:VEVENT
BEGIN:VEVENT
DTSTART;TZID=America/Los_Angeles:20240629T100000
DTEND;TZID=America/Los_Angeles:20240629T130000
DTSTAMP:20260425T042542
CREATED:20240627T174446Z
LAST-MODIFIED:20240627T174622Z
UID:880-1719655200-1719666000@northamericanlinen.org
SUMMARY:Visit a Western Oregon Flax Field in Bloom!
DESCRIPTION:Full bloom! Come walk in the fiber flax field with Fibrevolution on Saturday\, June 29\, 2024\, and enjoy the beautiful sea of blue flowers. Bring your camera\, flat shoes\, and a sun hat. We will be there from 10-1 pm\, behind the Oso Honey Farm stand – 5876 SW 3rd St\, Corvallis\, Oregon. Flowers open in the morning and fall by the afternoon. Visit on your way to the Black Sheep Gathering in Albany!
URL:https://northamericanlinen.org/event/visit-a-western-oregon-flax-field-in-bloom/
END:VEVENT
BEGIN:VEVENT
DTSTART;TZID=America/Los_Angeles:20240620T090000
DTEND;TZID=America/Los_Angeles:20240620T100000
DTSTAMP:20260425T042542
CREATED:20240613T191814Z
LAST-MODIFIED:20240613T192016Z
UID:870-1718874000-1718877600@northamericanlinen.org
SUMMARY:June NALA Members Social and Networking
DESCRIPTION:*This event is for NALA Members Only* \nYour next NALA Members Social opportunity is scheduled for Thursday\, June 20th at 9:00 am PST / 12:00 am EST. Please join us in welcoming our special guest speaker: Arin Gintowt\, Co-VP of NALA\, as he shares the Psychology of Linen. In addition to serving on the NALA Board of Directors\, Arin is the founder of CanFlax and President at Eliza Faulkner Designs. \nWith over ten year’s experience in the sustainable fashion industry\, and a multi-disciplined and diverse background in economics\, media\, entertainment\, and marketing\, Arin brings passion and vision\, and looks to create a positive impact in whatever he touches. Arin is a ceaseless learner and critical thinker. He enjoys advocating the benefits of durable goods\, restorative and regenerative agriculture\, and ESG\, and enjoys speaking on those subjects. \nWe would also like to welcome new NALA members into the community with a meet & greet opportunity. This is a great chance to make connections and build the community!
URL:https://northamericanlinen.org/event/june-nala-members-social-and-networking/
END:VEVENT
BEGIN:VEVENT
DTSTART;TZID=Asia/Krasnoyarsk:20240530T090000
DTEND;TZID=Asia/Krasnoyarsk:20240530T100000
DTSTAMP:20260425T042542
CREATED:20240425T201320Z
LAST-MODIFIED:20240425T201639Z
UID:789-1717059600-1717063200@northamericanlinen.org
SUMMARY:NALA Social & Networking: Guest Speakers Rosie Bristow and Nick Evans (NALA Members Event)
DESCRIPTION:Rosie Bristow and Nick Evans of Fantasy Fibre Mill connects regenerative agriculture to ethical fashion\, producing natural fibre yarn which is grown\, processed and spun in the UK. They aim to disrupt the extractive and exploitative fashion supply chain and instead produce textiles which nurture the local environment and community. So far they have grown a hectare of flax\, built three prototype processing machines\, made lots of yarn samples and undertaken a big research project into the viability of building a soil-to-soil textile economy in the UK. \nZoom link will be provided to all NALA members. This is a NALA member only event.
URL:https://northamericanlinen.org/event/nala-social-networking-guest-speakers-rosie-bristow-and-nick-evans-nala-members-event/
LOCATION:Zoom
END:VEVENT
BEGIN:VEVENT
DTSTART;TZID=America/Los_Angeles:20240524T000000
DTEND;TZID=America/Los_Angeles:20240526T235959
DTSTAMP:20260425T042542
CREATED:20240425T200740Z
LAST-MODIFIED:20240425T200740Z
UID:807-1716508800-1716767999@northamericanlinen.org
SUMMARY:Workshop: Flax to Fiber with Sharon Kallis of EartHand Gleaners Society
DESCRIPTION:Are you flax to linen curious and in the Edmonton\, Alberta Canada area? Sharon Kallis will be teaching a weekend intensive processing to spinning class the weekend of May 24 – 26. There is a potluck artist talk and social that is free on Friday night\, then processing to spinning on Saturday and Sunday\, which is the paid program. \n \n 
URL:https://northamericanlinen.org/event/workshop-flax-to-fiber-with-sharon-kallis-of-earthand-gleaners-society/
ORGANIZER;CN="Nancy Sandercock":MAILTO:nancy.sandercock@gmail.com
END:VEVENT
BEGIN:VEVENT
DTSTART;TZID=America/New_York:20240518T100000
DTEND;TZID=America/New_York:20240518T120000
DTSTAMP:20260425T042542
CREATED:20240507T190755Z
LAST-MODIFIED:20240508T202326Z
UID:830-1716026400-1716033600@northamericanlinen.org
SUMMARY:PA Flax Project's Producer Series: Part 1 (Growing)
DESCRIPTION:See fiber flax in the field in its early growth stage\, meet PA Flax Project’s full team\, discuss fiber flax varieties & an overview of the crop cycle\, and hear an overview of PA Flax Project’s cooperative business model and its economic benefits to producers. \n\nThis event will take place in both Spanish and English with simultaneous interpretation. Spanish-only\, English-only\, and bilingual speakers are all invited to attend this workshop. \nTo register and for more information please visit: https://paflaxproject.com/events \n***Organic snacks will be provided. \n\nSaturday\, May 18\, 2024\n10:00 AM  12:00 PM EST\nRodale Main Campus (map)\n\nRain Date May 19th
URL:https://northamericanlinen.org/event/pa-flax-projects-producer-series-part-1-growing/
LOCATION:Rodale Main Camppus
END:VEVENT
BEGIN:VEVENT
DTSTART;TZID=America/Los_Angeles:20240425T090000
DTEND;TZID=America/Los_Angeles:20240425T100000
DTSTAMP:20260425T042542
CREATED:20240425T195018Z
LAST-MODIFIED:20240425T201518Z
UID:805-1714035600-1714039200@northamericanlinen.org
SUMMARY:NALA Social & Networking: Guest Speaker Alvin Ulrich (NALA Member Event)
DESCRIPTION:This month we welcome Alvin Ulrich\, NALA Board of Director’s member and owner of Biolin Research Inc.\, which began as a research facility with the goal of producing value-added fiber from flax grown in the Prairie provinces of Canada. Biolin’s mission is to utilize 100% of the flax straw for commercial end uses so that the straw\, traditionally burned or chopped in the fields by farmers\, becomes a viable and profitable product\, completing the natural recycle circle. \nZoom link will be provided to all NALA members. This is a NALA member only event.
URL:https://northamericanlinen.org/event/nala-social-networking-guest-speaker-alvin-ulrich/
END:VEVENT
END:VCALENDAR