BEGIN:VCALENDAR
VERSION:2.0
PRODID:-//North American Linen Association - ECPv6.15.20//NONSGML v1.0//EN
CALSCALE:GREGORIAN
METHOD:PUBLISH
X-WR-CALNAME:North American Linen Association
X-ORIGINAL-URL:https://northamericanlinen.org
X-WR-CALDESC:Events for North American Linen Association
REFRESH-INTERVAL;VALUE=DURATION:PT1H
X-Robots-Tag:noindex
X-PUBLISHED-TTL:PT1H
BEGIN:VTIMEZONE
TZID:America/New_York
BEGIN:DAYLIGHT
TZOFFSETFROM:-0500
TZOFFSETTO:-0400
TZNAME:EDT
DTSTART:20230312T070000
END:DAYLIGHT
BEGIN:STANDARD
TZOFFSETFROM:-0400
TZOFFSETTO:-0500
TZNAME:EST
DTSTART:20231105T060000
END:STANDARD
BEGIN:DAYLIGHT
TZOFFSETFROM:-0500
TZOFFSETTO:-0400
TZNAME:EDT
DTSTART:20240310T070000
END:DAYLIGHT
BEGIN:STANDARD
TZOFFSETFROM:-0400
TZOFFSETTO:-0500
TZNAME:EST
DTSTART:20241103T060000
END:STANDARD
BEGIN:DAYLIGHT
TZOFFSETFROM:-0500
TZOFFSETTO:-0400
TZNAME:EDT
DTSTART:20250309T070000
END:DAYLIGHT
BEGIN:STANDARD
TZOFFSETFROM:-0400
TZOFFSETTO:-0500
TZNAME:EST
DTSTART:20251102T060000
END:STANDARD
END:VTIMEZONE
BEGIN:VEVENT
DTSTART;TZID=America/New_York:20241114T111500
DTEND;TZID=America/New_York:20241119T124500
DTSTAMP:20260425T081932
CREATED:20240624T204436Z
LAST-MODIFIED:20241002T194557Z
UID:873-1731582900-1732020300@northamericanlinen.org
SUMMARY:Panel Discussion/Moderated Conversation at the 2024 Textile Society of America Symposium
DESCRIPTION:Join us for a Panel Discussion/Moderated Conversation at the 2024 Textile Society of America Symposium titled “Shifts and Strands: Rethinking the Possibilities and Potentials of Textiles”. \nPanel Discussion will take place on November 14\, 2024\, 11:15 am to 12:45 pm EST. \nThe Symposium will be held virtually on Zoom from November 12-17\, 2024. \n  \nNALA will host a Panel Discussion: The re-emergence of the North American fiber flax industry: An opportunity to re-think. \nFiona Barrett\, Kristina Foley\, Leslie Schroeder\, and Angela Wartes-Kahl “The re-emergence of the North American fiber flax industry: An opportunity to re-think” \nNorth American Linen Association (NALA) has assembled a diverse group from different backgrounds so that they can give their perspective from their experience and focus. There are farmers\, academics\, and artisans\, all with a different focus in a united goal of creating a North American Linen industry. \nThe two main themes would be ruptures and repair. \nThe first questions will revolve around the notion of rupturing with the existing European industry. Is it possible? Is there an opportunity to do things differently? Is it possible to be completely independent? If things can be kept\, what should be kept? If things are broken\, or unsuitable\, how can we ensure that we do not become that in the future? \nThe second theme will cover the theme of repair and will broadly explore the following problem. We\, who are involved in the sustainable textile movement are in a bit of a bubble. We all agree with each other\, and want to achieve the same things. The problem is this. Is it more beneficial to our movement\, and to the planet to serve our community\, or to broaden it and reach others? \nHere is a practical example. Which has more impact? Expanding the fibershed movement\, and bringing on more small producers? Or convincing the major producers to do better\, and practice a more sustainable form of agriculture? \nNALA is a 501(c)6 trade group with the explicit mandate “to advance sustainability and resilience in the organic agriculture\, bast fiber\, textile and fashion industries.” \nEach individual\, as well as each business involved are known for their ESG policies\, whether they be sustainability initiatives or diversity and inclusion policies\, or both.
URL:https://northamericanlinen.org/event/panel-discussion-moderated-conversation-at-the-2024-textile-society-of-america-symposium/
END:VEVENT
END:VCALENDAR