BEGIN:VCALENDAR
VERSION:2.0
PRODID:-//North American Linen Association - ECPv6.15.20//NONSGML v1.0//EN
CALSCALE:GREGORIAN
METHOD:PUBLISH
X-ORIGINAL-URL:https://northamericanlinen.org
X-WR-CALDESC:Events for North American Linen Association
REFRESH-INTERVAL;VALUE=DURATION:PT1H
X-Robots-Tag:noindex
X-PUBLISHED-TTL:PT1H
BEGIN:VTIMEZONE
TZID:America/Los_Angeles
BEGIN:DAYLIGHT
TZOFFSETFROM:-0800
TZOFFSETTO:-0700
TZNAME:PDT
DTSTART:20230312T100000
END:DAYLIGHT
BEGIN:STANDARD
TZOFFSETFROM:-0700
TZOFFSETTO:-0800
TZNAME:PST
DTSTART:20231105T090000
END:STANDARD
BEGIN:DAYLIGHT
TZOFFSETFROM:-0800
TZOFFSETTO:-0700
TZNAME:PDT
DTSTART:20240310T100000
END:DAYLIGHT
BEGIN:STANDARD
TZOFFSETFROM:-0700
TZOFFSETTO:-0800
TZNAME:PST
DTSTART:20241103T090000
END:STANDARD
BEGIN:DAYLIGHT
TZOFFSETFROM:-0800
TZOFFSETTO:-0700
TZNAME:PDT
DTSTART:20250309T100000
END:DAYLIGHT
BEGIN:STANDARD
TZOFFSETFROM:-0700
TZOFFSETTO:-0800
TZNAME:PST
DTSTART:20251102T090000
END:STANDARD
END:VTIMEZONE
BEGIN:VEVENT
DTSTART;TZID=America/Los_Angeles:20240926T100000
DTEND;TZID=America/Los_Angeles:20240926T110000
DTSTAMP:20260425T111204
CREATED:20240905T194515Z
LAST-MODIFIED:20240905T194515Z
UID:933-1727344800-1727348400@northamericanlinen.org
SUMMARY:NALA Member Social and Networking
DESCRIPTION:**THIS IS A MEMBER ONLY EVENT** \nPlease join us for the September NALA Member Social and Networking event featuring Heidi Barr and the team from the PA Flax Project as they share information about their recent award of the Organic Market Development Grant (OMDG) and the journey to writing\, receiving\, and managing federal grants. \nAll NALA members will receive a meeting link via email and through our member newsletter.
URL:https://northamericanlinen.org/event/nala-member-social-and-networking/
END:VEVENT
END:VCALENDAR