BEGIN:VCALENDAR
VERSION:2.0
PRODID:-//North American Linen Association - ECPv6.15.20//NONSGML v1.0//EN
CALSCALE:GREGORIAN
METHOD:PUBLISH
X-WR-CALNAME:North American Linen Association
X-ORIGINAL-URL:https://northamericanlinen.org
X-WR-CALDESC:Events for North American Linen Association
REFRESH-INTERVAL;VALUE=DURATION:PT1H
X-Robots-Tag:noindex
X-PUBLISHED-TTL:PT1H
BEGIN:VTIMEZONE
TZID:America/New_York
BEGIN:DAYLIGHT
TZOFFSETFROM:-0500
TZOFFSETTO:-0400
TZNAME:EDT
DTSTART:20230312T070000
END:DAYLIGHT
BEGIN:STANDARD
TZOFFSETFROM:-0400
TZOFFSETTO:-0500
TZNAME:EST
DTSTART:20231105T060000
END:STANDARD
BEGIN:DAYLIGHT
TZOFFSETFROM:-0500
TZOFFSETTO:-0400
TZNAME:EDT
DTSTART:20240310T070000
END:DAYLIGHT
BEGIN:STANDARD
TZOFFSETFROM:-0400
TZOFFSETTO:-0500
TZNAME:EST
DTSTART:20241103T060000
END:STANDARD
BEGIN:DAYLIGHT
TZOFFSETFROM:-0500
TZOFFSETTO:-0400
TZNAME:EDT
DTSTART:20250309T070000
END:DAYLIGHT
BEGIN:STANDARD
TZOFFSETFROM:-0400
TZOFFSETTO:-0500
TZNAME:EST
DTSTART:20251102T060000
END:STANDARD
END:VTIMEZONE
BEGIN:VEVENT
DTSTART;TZID=America/New_York:20240907T000000
DTEND;TZID=America/New_York:20240908T235959
DTSTAMP:20260425T111159
CREATED:20240724T171950Z
LAST-MODIFIED:20240724T171950Z
UID:895-1725667200-1725839999@northamericanlinen.org
SUMMARY:Green Mountain Linen's: East Barnard Linen Fair
DESCRIPTION:Join Green Mountain Linen at our third annual East Barnard Linen Fair on Saturday 7th – Sunday 8th September\, 2024.\n\nNo-registration needed. This free event celebrates traditional methods of processing flax to linen.\n\nParticipate in the flax harvest\, and try flax processing with traditional equipment. See spinning and weaving demonstrations throughout the weekend. \n\n\nA schedule of events will be posted to the East Barnard Linen Fair website soon: eastbarnardlinenfair.org
URL:https://northamericanlinen.org/event/green-mountain-linens-east-barnard-linen-fair/
END:VEVENT
END:VCALENDAR